BEGIN:VCALENDAR
VERSION:2.0
PRODID:-//Plone.org//NONSGML plone.app.event//EN
X-WR-TIMEZONE:America/Sao_Paulo
BEGIN:VEVENT
SUMMARY:ETEC Jaboticabal
DTSTART;TZID=America/Sao_Paulo;VALUE=DATE-TIME:20190422T073000
DTEND;TZID=America/Sao_Paulo;VALUE=DATE-TIME:20190422T170000
DTSTAMP;VALUE=DATE-TIME:20260424T215518Z
UID:0174455a64ed4fb6801bbf126e8ca679@www.jaboticabal.sp.leg.br
CREATED;VALUE=DATE-TIME:20190408T114254Z
LAST-MODIFIED;VALUE=DATE-TIME:20190408T114257Z
LOCATION:Plenário
URL:https://www.jaboticabal.sp.leg.br/imprensa/agenda-de-eventos/etec-jabo
 ticabal-1
END:VEVENT
BEGIN:VTIMEZONE
TZID:America/Sao_Paulo
X-LIC-LOCATION:America/Sao_Paulo
BEGIN:STANDARD
DTSTART;VALUE=DATE-TIME:20190216T230000
TZNAME:-03
TZOFFSETFROM:-0200
TZOFFSETTO:-0300
END:STANDARD
END:VTIMEZONE
END:VCALENDAR
